BEGIN:VCALENDAR
VERSION:2.0
PRODID:-//MassHire Central Workforce Development Board - ECPv6.15.12.2//NONSGML v1.0//EN
CALSCALE:GREGORIAN
METHOD:PUBLISH
X-WR-CALNAME:MassHire Central Workforce Development Board
X-ORIGINAL-URL:https://masshirecentral.com
X-WR-CALDESC:Events for MassHire Central Workforce Development Board
REFRESH-INTERVAL;VALUE=DURATION:PT1H
X-Robots-Tag:noindex
X-PUBLISHED-TTL:PT1H
BEGIN:VTIMEZONE
TZID:America/New_York
BEGIN:DAYLIGHT
TZOFFSETFROM:-0500
TZOFFSETTO:-0400
TZNAME:EDT
DTSTART:20240310T070000
END:DAYLIGHT
BEGIN:STANDARD
TZOFFSETFROM:-0400
TZOFFSETTO:-0500
TZNAME:EST
DTSTART:20241103T060000
END:STANDARD
BEGIN:DAYLIGHT
TZOFFSETFROM:-0500
TZOFFSETTO:-0400
TZNAME:EDT
DTSTART:20250309T070000
END:DAYLIGHT
BEGIN:STANDARD
TZOFFSETFROM:-0400
TZOFFSETTO:-0500
TZNAME:EST
DTSTART:20251102T060000
END:STANDARD
BEGIN:DAYLIGHT
TZOFFSETFROM:-0500
TZOFFSETTO:-0400
TZNAME:EDT
DTSTART:20260308T070000
END:DAYLIGHT
BEGIN:STANDARD
TZOFFSETFROM:-0400
TZOFFSETTO:-0500
TZNAME:EST
DTSTART:20261101T060000
END:STANDARD
BEGIN:DAYLIGHT
TZOFFSETFROM:-0500
TZOFFSETTO:-0400
TZNAME:EDT
DTSTART:20270314T070000
END:DAYLIGHT
BEGIN:STANDARD
TZOFFSETFROM:-0400
TZOFFSETTO:-0500
TZNAME:EST
DTSTART:20271107T060000
END:STANDARD
END:VTIMEZONE
BEGIN:VEVENT
DTSTART;TZID=America/New_York:20260408T100000
DTEND;TZID=America/New_York:20260408T120000
DTSTAMP:20260422T173409
CREATED:20260323T164455Z
LAST-MODIFIED:20260323T165342Z
UID:20777-1775642400-1775649600@masshirecentral.com
SUMMARY:4/8\, 10AM - noon: Southbridge Job Fair
DESCRIPTION:Register for MassHire Southbridge’s FREE Job Fair: April 8\, 10AM – noon.\nMeet representatives from diverse regional employers hiring now! \nRegister today!
URL:https://masshirecentral.com/event/apr8-masshire-southbridge-job-fair/
LOCATION:MassHire Southbridge Career Center\, 5 Optical Drive\, Suite 200\, Southbridge\, MA\, 01550\, United States
CATEGORIES:Job Fairs,Recruitment Events
END:VEVENT
BEGIN:VEVENT
DTSTART;TZID=America/New_York:20251202T100000
DTEND;TZID=America/New_York:20251202T130000
DTSTAMP:20260422T173409
CREATED:20251110T160016Z
LAST-MODIFIED:20251110T162050Z
UID:20998-1764669600-1764680400@masshirecentral.com
SUMMARY:12/2\, 10AM - 1PM: December Virtual Job Fair
DESCRIPTION:This event is held in partnership between the MassHire Central Worcester and Southbridge Career Centers. Participating employers and job seekers are from Central Massachusetts and represent the region’s rich diversity of industries and work experience. Register! \nPremier Virtual is an online platform that allows job seekers to view employers’ virtual booths\, view the companies’ information\, review their job openings\, and submit their resumes. Job seekers and employers can also instant message and video chat each other through the platform. \nUpon registering for the event on Premier Virtual\, job seekers must provide their names\, emails\, phone numbers\, MassHire/JobQuest job seeker ID number\, and upload their resumes or a typed professional summary in PDF format to participate. Job seekers may also include a professional headshot on their Premier Virtual profile. Register!
URL:https://masshirecentral.com/event/masshire-vjf-dec2/
LOCATION:Premier Virtual
CATEGORIES:Job Fairs,Networking
END:VEVENT
BEGIN:VEVENT
DTSTART;TZID=America/New_York:20251114T100000
DTEND;TZID=America/New_York:20251114T130000
DTSTAMP:20260422T173409
CREATED:20251102T150933Z
LAST-MODIFIED:20251105T134250Z
UID:20356-1763114400-1763125200@masshirecentral.com
SUMMARY:11/14\, 10AM - 1PM: Construction Job Fair at MassHire Worcester
DESCRIPTION:If you’re ready to build a career in construction\, join the DF Pray and MassHire Central at our Construction Job Fair!  \nWhether you’re a seasoned pro or just starting out\, this event is ideal for individuals interested in construction industry opportunities including Project Management\, Trades\, Administration\, Accounting\, Information Technology\, Scheduling\, Estimating\, and more. \nBring your Photo ID and copies of your resume. Free and open to all job seekers. Register.
URL:https://masshirecentral.com/event/11-14-masshire-worcester-construction-jobfair/
LOCATION:MassHire Worcester Career Center\, 554 Main Street\, 3rd Floor\, Worcester\, MA\, 01608\, United States
CATEGORIES:Job Fairs,Recruitment Events
END:VEVENT
BEGIN:VEVENT
DTSTART;TZID=America/New_York:20251113T110000
DTEND;TZID=America/New_York:20251113T130000
DTSTAMP:20260422T173409
CREATED:20251104T174606Z
LAST-MODIFIED:20251105T142119Z
UID:21209-1763031600-1763038800@masshirecentral.com
SUMMARY:11/13\, 11AM - 1PM: Southern Worcester County Career & Community Resource Fair
DESCRIPTION:Special event brings together the Southbridge Job Fair and the WCAC Community Resource Fair: Meet personally with local employers hiring now and connect with community organizations offering resources and assistance. You’ll get:\n\n\n\n\nOn-the-spot interviews with hiring employers\nSupport with SNAP\, RAFT rental assistance\, VITA free tax prep\, and more\nAccess to financial coaching and advocacy services\n\nIf seeking resources\, bring: \n\nPhoto ID\nUtility Bill\nIncome Verification\nCrisis Letter (if applicable)\nLease Agreement
URL:https://masshirecentral.com/event/11-13-southbridge-career-and-resource-fair/
LOCATION:Worcester State University\, 486 Chandler St\, \,\, Worcester\, MA\, 01602\, United States
CATEGORIES:Career Development Opportunities,Job Fairs
END:VEVENT
BEGIN:VEVENT
DTSTART;TZID=America/New_York:20251110T130000
DTEND;TZID=America/New_York:20251110T153000
DTSTAMP:20260422T173409
CREATED:20251109T150056Z
LAST-MODIFIED:20251110T162942Z
UID:20768-1762779600-1762788600@masshirecentral.com
SUMMARY:11/10\, 1PM - 3:30PM: "Five Skills You Need to Survive the AI Revolution" (free seminar at MassHire Worcester)
DESCRIPTION:Step confidently into the future of work! In this dynamic seminar\, you’ll sharpen the human skills AI can’t replace—communication\, problem-solving\, empathy\, critical thinking\, and resilience–preparing you to stand out in any workplace and thrive alongside evolving technology like AI\, machine learning\, and more. \nThrough hands-on activities and real-world challenges\, you’ll discover how to be flexible\, adaptable\, and unlock new opportunities in an AI-infused world. \nMore details and online application.  \n “Todd at Human Skills EDU put on an excellent workshop with good examples and practical group exercises to help me upskill my Human Skills. Interacting with others was also an excellent way to explore the ideas.” (Sean Tierney\, Workshop Participant)
URL:https://masshirecentral.com/event/humanskills-edu-nov10/
LOCATION:MassHire Worcester Career Center\, 554 Main Street\, 3rd Floor\, Worcester\, MA\, 01608\, United States
CATEGORIES:Career Development Opportunities,Job Fairs
END:VEVENT
BEGIN:VEVENT
DTSTART;TZID=America/New_York:20250513T110000
DTEND;TZID=America/New_York:20250513T150000
DTSTAMP:20260422T173409
CREATED:20250410T200102Z
LAST-MODIFIED:20250410T200102Z
UID:20304-1747134000-1747148400@masshirecentral.com
SUMMARY:May 13: Central MA's Largest Job Fair (Free for jobseekers)
DESCRIPTION:Register for Central Massachusetts largest Annual Job Fair–featuring more than 100 employers hiring now–dozens of opportunities in for-profits\, non-profits\, and state and municipal government. \nNo pre-registration required\, but we encourage you to register now for expedited check-in on the day of the event. \nFeatured Employers A – Z (many more coming soon!) \nA: Advocates\, Inc.; Allied Universal Security; American Steel and Aluminum; Arbor Associates; Ardent Staffing Solutions; Ascentria Care Alliance \nB: bankHometown; Big Y Foods\, Inc. \nE: EAW Roofing & Construction\, Inc. \nH: Hospital for Behavioral Medicine \nI: IPG Photonics \nJ: Jewish Healthcare Center \nM: MA Department of Developmental Services; MA Executive Office of Veterans Services; Medline Industries\, LLP \nN: Notre Dame Health Care \nO: Open Sky Community Services \nP: Posigen \nR: RCAP Solutions; RFK Community Alliance; Right at Home; Riverside Community Care \nS: Seven Hills Foundation; Shapiro Educational & Behavioral Consultants; Skribbles Learning Center \nT: Tempus Unlimited; The Brandon School & Residential Treatment Center; The Overlook \nU: Unibank; Upper Blackstone Clean Water \nV: Venture Community Services; Veterans Inc. \nW: Webster Five Cents Savings Bank; Worcester County Sheriff’s Office; Worcester County Sheriff’s Office Regional Reentry Center; Worcester Public Schools
URL:https://masshirecentral.com/event/may-13-dcu-jobfair/
LOCATION:Worcester DCU Center\, 50 Foster Street\, Worcester\, MA\, 01608
CATEGORIES:Job Fairs,Networking
END:VEVENT
END:VCALENDAR