BEGIN:VCALENDAR
VERSION:2.0
PRODID:-//MassHire Central Workforce Development Board - ECPv6.15.12.2//NONSGML v1.0//EN
CALSCALE:GREGORIAN
METHOD:PUBLISH
X-ORIGINAL-URL:https://masshirecentral.com
X-WR-CALDESC:Events for MassHire Central Workforce Development Board
REFRESH-INTERVAL;VALUE=DURATION:PT1H
X-Robots-Tag:noindex
X-PUBLISHED-TTL:PT1H
BEGIN:VTIMEZONE
TZID:America/New_York
BEGIN:DAYLIGHT
TZOFFSETFROM:-0500
TZOFFSETTO:-0400
TZNAME:EDT
DTSTART:20250309T070000
END:DAYLIGHT
BEGIN:STANDARD
TZOFFSETFROM:-0400
TZOFFSETTO:-0500
TZNAME:EST
DTSTART:20251102T060000
END:STANDARD
BEGIN:DAYLIGHT
TZOFFSETFROM:-0500
TZOFFSETTO:-0400
TZNAME:EDT
DTSTART:20260308T070000
END:DAYLIGHT
BEGIN:STANDARD
TZOFFSETFROM:-0400
TZOFFSETTO:-0500
TZNAME:EST
DTSTART:20261101T060000
END:STANDARD
BEGIN:DAYLIGHT
TZOFFSETFROM:-0500
TZOFFSETTO:-0400
TZNAME:EDT
DTSTART:20270314T070000
END:DAYLIGHT
BEGIN:STANDARD
TZOFFSETFROM:-0400
TZOFFSETTO:-0500
TZNAME:EST
DTSTART:20271107T060000
END:STANDARD
END:VTIMEZONE
BEGIN:VEVENT
DTSTART;TZID=America/New_York:20260304T133000
DTEND;TZID=America/New_York:20260304T153000
DTSTAMP:20260425T065317
CREATED:20260209T153658Z
LAST-MODIFIED:20260209T153658Z
UID:21744-1772631000-1772638200@masshirecentral.com
SUMMARY:3/4\, 1:30PM - 3:30PM: "Unlock the Mysteries of LinkedIn"
DESCRIPTION:  \n\n\n\n \nAttend this in-person seminar at the MassHire Central Region Career Center in Southbridge and unlock the secrets of LinkedIn: \n\n\n\n\n\n\n\nCreate a powerful profile\n\n\n\n\n\n\nUse your network\nTap LinkedIn’s powerful job searching engine\n\nJoin 50+ Job Seekers Career Coach Professor Melody Beach and get the keys to the LinkedIn kingdom. \nCall (508) 765-6430 and sign up today!
URL:https://masshirecentral.com/event/linkedin-mysteries_mar4/
LOCATION:MassHire Southbridge Career Center\, 5 Optical Drive\, Suite 200\, Southbridge\, MA\, 01550\, United States
CATEGORIES:Workshops
END:VEVENT
BEGIN:VEVENT
DTSTART;TZID=America/New_York:20260408T100000
DTEND;TZID=America/New_York:20260408T120000
DTSTAMP:20260425T065317
CREATED:20260323T164455Z
LAST-MODIFIED:20260323T165342Z
UID:20777-1775642400-1775649600@masshirecentral.com
SUMMARY:4/8\, 10AM - noon: Southbridge Job Fair
DESCRIPTION:Register for MassHire Southbridge’s FREE Job Fair: April 8\, 10AM – noon.\nMeet representatives from diverse regional employers hiring now! \nRegister today!
URL:https://masshirecentral.com/event/apr8-masshire-southbridge-job-fair/
LOCATION:MassHire Southbridge Career Center\, 5 Optical Drive\, Suite 200\, Southbridge\, MA\, 01550\, United States
CATEGORIES:Job Fairs,Recruitment Events
END:VEVENT
BEGIN:VEVENT
DTSTART;TZID=America/New_York:20260422T130000
DTEND;TZID=America/New_York:20260422T153000
DTSTAMP:20260425T065317
CREATED:20260323T181055Z
LAST-MODIFIED:20260323T181055Z
UID:21866-1776862800-1776871800@masshirecentral.com
SUMMARY:4/22\, 1PM - 3:30PM: Human Skills Workshop "Empowering Your Human Potential in the AI Age"
DESCRIPTION:If you’re concerned about how AI will impact your current or future employment…\n… Register for our free Human Skills Workshop and develop essential skills that distinguish you in an AI-driven world (virtual on Zoom). \nCommunication\, adaptability\, and empathy are critical to thrive in the future of work. Build foundational skills AI can’t replace! \nSpace is limited: Reserve your spot today
URL:https://masshirecentral.com/event/humanskills-workshop-april-22-zoom/
LOCATION:Zoom
CATEGORIES:Career Development Opportunities,Workshops
END:VEVENT
BEGIN:VEVENT
DTSTART;TZID=America/New_York:20260424T100000
DTEND;TZID=America/New_York:20260424T120000
DTSTAMP:20260425T065317
CREATED:20260323T172637Z
LAST-MODIFIED:20260323T172637Z
UID:21848-1777024800-1777032000@masshirecentral.com
SUMMARY:4/24\, 10AM - noon: MassHire Worcester Multi-Industry Job Fair
DESCRIPTION:Free for all job seekers!\nMeet dozens of regional employers from diverse industries hiring now! \nAvoid the big crowds when the event start and get more quality time with human resources representatives: Register for a time slot at 10AM\, 10:30AM\, 11AM\, or 11:30AM \nYou’ll get full access to all employers and opportunities… and shorter wait times. \nRegister and secure your preferred time slot today!
URL:https://masshirecentral.com/event/masshire-worcester-job-fair-apr24/
LOCATION:MassHire Worcester Career Center\, 554 Main Street\, 3rd Floor\, Worcester\, MA\, 01608\, United States
CATEGORIES:Job Fairs,Recruitment Events
END:VEVENT
BEGIN:VEVENT
DTSTART;TZID=America/New_York:20260425T120000
DTEND;TZID=America/New_York:20260425T160000
DTSTAMP:20260425T065317
CREATED:20260413T201000Z
LAST-MODIFIED:20260413T201000Z
UID:21922-1777118400-1777132800@masshirecentral.com
SUMMARY:4/25\, noon - 4PM: Latin American Business Expo at the DCU Center (Free)
DESCRIPTION:This year’s Expo brings together entrepreneurs\, community members\, and organizations for an engaging and culturally enriching event featuring live entertainment\, food tastings\, a Venture Pitch Competition\, raffles\, and family-friendly activities. Admission is FREE\, so register today!
URL:https://masshirecentral.com/event/4-25-noon-4pm-latin-american-business-expo-worcester-dcu-center/
LOCATION:Worcester DCU Center\, 50 Foster Street\, Worcester\, MA\, 01608
END:VEVENT
BEGIN:VEVENT
DTSTART;TZID=America/New_York:20260430T080000
DTEND;TZID=America/New_York:20260430T103000
DTSTAMP:20260425T065317
CREATED:20260413T195229Z
LAST-MODIFIED:20260413T195600Z
UID:21918-1777536000-1777545000@masshirecentral.com
SUMMARY:5/30\, 8AM - 10:30AM: Connect-ED 2026 AI in Education Regional Summit
DESCRIPTION:The MassHire North Central Workforce Board hosts this free Summit for K–12 leaders and teachers: “AI: The New Classroom Partner — Policy\, Resources & Workforce Readiness.”  \nJoin experts from the MA AI Hub and DESE\, hear an employer’s perspective on AI and the future of work\, and join discussions that generate practical policy and classroom resources.  \nIdeal for superintendents\, principals\, curriculum leaders\, instructional coaches\, teachers\, and counselors. Space is limited.
URL:https://masshirecentral.com/event/4-30-connect-ed-2026-ai-in-education-regional-summit/
LOCATION:Boy and Girls Club of Fitchburg and Leominster\, 365 Lindell Avenue\, Leominster\, 01453\, United States
CATEGORIES:Career Development Opportunities
ORGANIZER;CN="MassHire North Central Workforce Board":MAILTO:kwhite@masshirenorthcentralwb.com
END:VEVENT
BEGIN:VEVENT
DTSTART;TZID=America/New_York:20260501T080000
DTEND;TZID=America/New_York:20260501T120000
DTSTAMP:20260425T065317
CREATED:20260420T130023Z
LAST-MODIFIED:20260421T141845Z
UID:20765-1777622400-1777636800@masshirecentral.com
SUMMARY:5/1\, 8AM - noon: 11th Annual WoostaPreneurs Forum (Free!)
DESCRIPTION:Attention Greater Worcester entrepreneurs! Connect with your peers and discover valuable resources to grow your venture at the 11th Annual Woostapreneurs Forum May 1\, 8AM to noon at the College of the Holy Cross. Advanced registration required. \nCosponsored by SBA Massachusetts District Office and the Worcester Regional Chamber of Commerce\, this annual event is designed for existing business owners\, aspiring entrepreneurs\, veteran entrepreneurs\, millennial entrepreneurs\, women-owned businesses\, and other underserved entrepreneurs. \nAGENDA \n8am – 8:30: Registration\, networking\, continental breakfast\n8:30 – 8:45: Welcoming remarks\n8:45 – 9:45: Success Stories Panel\n9:45 – 10: Break/networking\n10 – 11: Experts and Resources Panel\n11 – 11:15: Break/networking\n11:15 – 11:45: Keynote: TBD\n11:50 – noon: Closing and post-event networking \nRegister today!
URL:https://masshirecentral.com/event/may-1-woostapreneurs-forum-at-holy-cross-worcester/
LOCATION:College of the Holy Cross Hogan Conference Center\, 1 College Street\, Worcester\, MA\, 01610\, United States
CATEGORIES:Networking
ORGANIZER;CN="SBA Massachusetts":MAILTO:shelly.gillis@sba.gov
END:VEVENT
BEGIN:VEVENT
DTSTART;TZID=America/New_York:20260501T100000
DTEND;TZID=America/New_York:20260501T130000
DTSTAMP:20260425T065317
CREATED:20260324T215959Z
LAST-MODIFIED:20260324T215959Z
UID:21877-1777629600-1777640400@masshirecentral.com
SUMMARY:5/1\, 10AM - 1PM: Registered Apprenticeship Job Fair
DESCRIPTION:Meet employers offering registered apprenticeships! \nRegister TODAY!\nDid you know? Registered Apprenticeships benefit apprentices and employers: \n\n\nEmployers get a bigger pipeline of skilled workers\, improve productivity\, and reduce turnover.  \n\n\n\n\n\n\n\n\nApprentices earn an average annual starting salary of more than $70\,000 and gain hands-on experience leading to long-term career growth and better job security.  \n\n\n\n\n\n\n\n\nRegistered Apprenticeship programs are especially popular in regional high-priority industries like construction\, healthcare\, and IT (all of which demand increasingly specialized skills).  \n\n\n\n\nCheck out ApprenticeshipUSA for more info!
URL:https://masshirecentral.com/event/5-1-registered-apprentice-job-fair-masshire-worcester/
LOCATION:MassHire Worcester Career Center\, 554 Main Street\, 3rd Floor\, Worcester\, MA\, 01608\, United States
END:VEVENT
BEGIN:VEVENT
DTSTART;TZID=America/New_York:20260507T080000
DTEND;TZID=America/New_York:20260507T160000
DTSTAMP:20260425T065317
CREATED:20260218T202518Z
LAST-MODIFIED:20260218T182538Z
UID:21664-1778140800-1778169600@masshirecentral.com
SUMMARY:5/7\, 8AM - 4:30PM: Worcester Women's Leadership Conference
DESCRIPTION:Now in its 17th year\, the Worcester Women’s Leadership Conference is a dynamic one-day leadership development presented by the Worcester Regional Chamber of Commerce. The event features keynote speakers\, educational workshops\, and networking opportunities with more than 700 professional women from Central Massachusetts! Registration includes: \n\nTwo national keynote speakers (Debra Searle and Dr. Natalie Nixon)\nTwo breakout sessions (choose one of four relevant workshops)\nContinental breakfast and plated lunch\nNetworking reception\nConference app: Plan your day and connect with other attendees\n\nRegister today! Already registered? Share on social media: #WWLC2026 \n$250 for Chamber members; $300 for non-members. (Scholarships available: email ssilva@worcesterchamber.org)
URL:https://masshirecentral.com/event/wwlc-may-7-dcu-center/
LOCATION:Worcester DCU Center\, 50 Foster Street\, Worcester\, MA\, 01608
CATEGORIES:Career Development Opportunities,Networking
ORGANIZER;CN="Worcester Regional Chamber of Commerce":MAILTO:kpelletier@worcesterchamber.org
END:VEVENT
BEGIN:VEVENT
DTSTART;TZID=America/New_York:20260512T090000
DTEND;TZID=America/New_York:20260512T150000
DTSTAMP:20260425T065317
CREATED:20260413T160326Z
LAST-MODIFIED:20260413T163840Z
UID:21905-1778576400-1778598000@masshirecentral.com
SUMMARY:5/12\, 9AM - 4PM: Advanced Manufacturing Training Strategic Planning Meeting
DESCRIPTION:YOU can help drive the future of manufacturing training in Massachusetts… \n… Attend the 2026 Annual Massachusetts Advanced Manufacturing Training Strategic Planning meeting. \nDiscuss Massachusetts’ manufacturing workforce ecosystem and strategize ways to build a workforce development system that meets the needs of all manufacturers. \nRegister!
URL:https://masshirecentral.com/event/5-12-mtc-cam-conference/
LOCATION:College of the Holy Cross Hogan Conference Center\, 1 College Street\, Worcester\, MA\, 01610\, United States
CATEGORIES:Networking
ORGANIZER;CN="Mass Tech Collaborative%3A Center for Advanced Manufacturing":MAILTO:abella-bowen@masstech.org
END:VEVENT
BEGIN:VEVENT
DTSTART;TZID=America/New_York:20260512T110000
DTEND;TZID=America/New_York:20260512T150000
DTSTAMP:20260425T065317
CREATED:20260413T191627Z
LAST-MODIFIED:20260413T195447Z
UID:21661-1778583600-1778598000@masshirecentral.com
SUMMARY:5/12\, 11AM - 3PM: MassHire Central Job Fair at the DCU Center (Free)
DESCRIPTION:Print plenty of resumes if you plan to attend the largest in-person job fair in Central Massachusetts!\nDiscover opportunities with dozens of employers from diverse industries hiring now.\nRegister today! 
URL:https://masshirecentral.com/event/vjf-mar26/
LOCATION:Worcester DCU Center\, 50 Foster Street\, Worcester\, MA\, 01608
CATEGORIES:Job Fairs,Recruitment Events
END:VEVENT
BEGIN:VEVENT
DTSTART;TZID=America/New_York:20260513T080000
DTEND;TZID=America/New_York:20260513T130000
DTSTAMP:20260425T065317
CREATED:20260213T144647Z
LAST-MODIFIED:20260213T144647Z
UID:21759-1778659200-1778677200@masshirecentral.com
SUMMARY:5/13\, 8AM - 1PM: Senior Scoop at Polar Park
DESCRIPTION:More than 400 Central MA high school seniors who are considering post-secondary options connect with regional businesses recruiting fresh talent and hiring now. Co-sponsored by the Blackstone Valley Hub for Workforce Development (BVHub) and made possible through DESE’s School-to-Work Connecting Activities program\, Senior Scoop brings together graduating seniors\, school administrators and staff\, regional businesses\, and community-based organizations to explore career opportunities and pathways\, network\, and conduct interviews in an informal setting at Polar Park’s Concourse.  \n\nSenior Scoop 2026 Info & Resources\nEmployer Registration (Free!)\n\nRead the rave reviews for Senior Scoop 2025!
URL:https://masshirecentral.com/event/senior-scoop-2026-at-polar-park/
LOCATION:Polar Park\, 100 Madison Street\, Worcester\, MA\, 01610\, United States
CATEGORIES:Job Fairs,Recruitment Events
ORGANIZER;CN="Blackstone Valley Hub for Workforce Development":MAILTO:admin@bvhub.org
END:VEVENT
BEGIN:VEVENT
DTSTART;TZID=America/New_York:20260609T090000
DTEND;TZID=America/New_York:20260609T120000
DTSTAMP:20260425T065317
CREATED:20260302T174849Z
LAST-MODIFIED:20260324T212656Z
UID:21804-1780995600-1781006400@masshirecentral.com
SUMMARY:6/9\, 9AM - noon: Central MA School-to-Work Connecting Activities Regional Convening
DESCRIPTION:CONFIRMED SPEAKER: MA DESE Commissioner Pedro Martinez\nWHAT: Central MA Connecting Activities Regional Convening\, a free event open to representatives from schools and school districts throughout Worcester County. Attendees will leave with resources to help conceive\, design\, implement\, and operate innovative workforce development initiatives for regional youth. \nWHEN: June 9\, 9AM – noon \nWHERE: The Blackstone Valley Hub for Workforce Development in Whitinsville\, MA \nWHY: Featuring hands-on activities and interactive dialogues\, the Convening will give participants actionable insights and plenty of networking opportunities with like-minded (and similarly motivated) peers. \nEmail Lauren Barrett for more info.
URL:https://masshirecentral.com/event/6-9-connecting-activities-regional-convening/
LOCATION:Blackstone Valley Hub for Workforce Development\, 670 Linwood Ave.\, Suite 5\, Whitinsville\, MA\, 01588\, United States
CATEGORIES:Networking
END:VEVENT
END:VCALENDAR