BEGIN:VCALENDAR
VERSION:2.0
PRODID:-//MassHire Central Workforce Development Board - ECPv6.15.12.2//NONSGML v1.0//EN
CALSCALE:GREGORIAN
METHOD:PUBLISH
X-WR-CALNAME:MassHire Central Workforce Development Board
X-ORIGINAL-URL:https://masshirecentral.com
X-WR-CALDESC:Events for MassHire Central Workforce Development Board
REFRESH-INTERVAL;VALUE=DURATION:PT1H
X-Robots-Tag:noindex
X-PUBLISHED-TTL:PT1H
BEGIN:VTIMEZONE
TZID:America/New_York
BEGIN:DAYLIGHT
TZOFFSETFROM:-0500
TZOFFSETTO:-0400
TZNAME:EDT
DTSTART:20250309T070000
END:DAYLIGHT
BEGIN:STANDARD
TZOFFSETFROM:-0400
TZOFFSETTO:-0500
TZNAME:EST
DTSTART:20251102T060000
END:STANDARD
BEGIN:DAYLIGHT
TZOFFSETFROM:-0500
TZOFFSETTO:-0400
TZNAME:EDT
DTSTART:20260308T070000
END:DAYLIGHT
BEGIN:STANDARD
TZOFFSETFROM:-0400
TZOFFSETTO:-0500
TZNAME:EST
DTSTART:20261101T060000
END:STANDARD
BEGIN:DAYLIGHT
TZOFFSETFROM:-0500
TZOFFSETTO:-0400
TZNAME:EDT
DTSTART:20270314T070000
END:DAYLIGHT
BEGIN:STANDARD
TZOFFSETFROM:-0400
TZOFFSETTO:-0500
TZNAME:EST
DTSTART:20271107T060000
END:STANDARD
END:VTIMEZONE
BEGIN:VEVENT
DTSTART;TZID=America/New_York:20260501T080000
DTEND;TZID=America/New_York:20260501T120000
DTSTAMP:20260424T120513
CREATED:20260420T130023Z
LAST-MODIFIED:20260421T141845Z
UID:20765-1777622400-1777636800@masshirecentral.com
SUMMARY:5/1\, 8AM - noon: 11th Annual WoostaPreneurs Forum (Free!)
DESCRIPTION:Attention Greater Worcester entrepreneurs! Connect with your peers and discover valuable resources to grow your venture at the 11th Annual Woostapreneurs Forum May 1\, 8AM to noon at the College of the Holy Cross. Advanced registration required. \nCosponsored by SBA Massachusetts District Office and the Worcester Regional Chamber of Commerce\, this annual event is designed for existing business owners\, aspiring entrepreneurs\, veteran entrepreneurs\, millennial entrepreneurs\, women-owned businesses\, and other underserved entrepreneurs. \nAGENDA \n8am – 8:30: Registration\, networking\, continental breakfast\n8:30 – 8:45: Welcoming remarks\n8:45 – 9:45: Success Stories Panel\n9:45 – 10: Break/networking\n10 – 11: Experts and Resources Panel\n11 – 11:15: Break/networking\n11:15 – 11:45: Keynote: TBD\n11:50 – noon: Closing and post-event networking \nRegister today!
URL:https://masshirecentral.com/event/may-1-woostapreneurs-forum-at-holy-cross-worcester/
LOCATION:College of the Holy Cross Hogan Conference Center\, 1 College Street\, Worcester\, MA\, 01610\, United States
CATEGORIES:Networking
ORGANIZER;CN="SBA Massachusetts":MAILTO:shelly.gillis@sba.gov
END:VEVENT
END:VCALENDAR